BEGIN:VCALENDAR
VERSION:2.0
PRODID:-//Modern Events Manager//DE
BEGIN:VEVENT
UID:135780@www.mlkg.de
DTSTAMP:20260420T201212Z
DTSTART:20260719T103000
DTEND:20260719T123000
SUMMARY:GO:Generations
DESCRIPTION:Einer für alle - und alle in einem!\\nEin Gottesdienst für jede Altersklasse und alle Lebenslagen. Kinder\, Eltern\, Großeltern – Patchwork\, Wahlfamilien\, Singles\, Paare\, Freundeskreise\, Nachbarschaften: Alle sind willkommen und gehören dazu. Wir starten gemeinsam und interaktiv in der Kirche. Danach wechseln die Kinder ins Spiel- und Bastelangebot im Gemeindesaal\, während die Älteren in der Kirche einen kurzen\, alltagsnahen Glaubensimpuls erleben. Zum Abschluss treffen wir uns wieder alle 
LOCATION:Ev. Martin-Luther-Kirchengemeinde\, Ardeystraße 138\, 58453 Witten
URL:https://www.mlkg.de/event/gogenerations/
END:VEVENT
END:VCALENDAR
