BEGIN:VCALENDAR
VERSION:2.0
PRODID:-//Modern Events Manager//DE
BEGIN:VEVENT
UID:135830@www.mlkg.de
DTSTAMP:20260422T064719Z
DTSTART:20260201T103000
DTEND:20260201T123000
SUMMARY:GO:Talk
DESCRIPTION:Die mlkg-Matinee mit Impuls &amp\; Dialog.\\nEin Gottesdienst\, der Kopf und Herz anspricht:\\n\\n	\\nImpulse zu aktuellen Themen aus Gesellschaft\, Kultur\, Alltag und Glaube\\n\\n	\\nDialog auf Augenhöhe – im Interview mit Gästen\, auf der Bühne oder interaktiv mit der Gemeinde\\n\\n	\\nMusik\, die inspiriert und zum Aufatmen einlädt\\n\\n	\\nZeit für Begegnung: Kaffeeduft im Kirchraum\, gemeinsames Mittagessen\, Gespräche und Austausch\\n\\n\\nGO:Talk ist der ideale Einstieg in den Monat – ein Gottesdie
LOCATION:Ev. Martin-Luther-Kirchengemeinde\, Ardeystraße 138\, 58453 Witten
URL:https://www.mlkg.de/event/gotalk/
END:VEVENT
END:VCALENDAR
