BEGIN:VCALENDAR
VERSION:2.0
PRODID:-//Modern Events Manager//DE
BEGIN:VEVENT
UID:135969@www.mlkg.de
DTSTAMP:20260421T081057Z
DTSTART:20260325T190000
DTEND:20260325T210000
SUMMARY:Gebet für Witten
DESCRIPTION:Am Mittwoch\, den 25. März 2026\, laden wir herzlich um 19 Uhr zum Gebet für Witten in die Martin-Luther-Kirche Witten (Ardeystraße 138) ein.\\nIn einer Zeit\, in der viele Menschen Sorgen\, Fragen und Unsicherheiten bewegen\, möchten wir als Christinnen und Christen bewusst zusammenkommen\, um unsere Stadt vor Gott zu bringen. Gemeinsam wollen wir für Witten beten – für die Menschen\, die hier leben\, für Verantwortliche in Politik und Gesellschaft\, für Familien\, Kinder und Jugendliche sowie f
LOCATION:Ev. Martin-Luther-Kirchengemeinde\, Ardeystraße 138\, 58453 Witten
URL:https://www.mlkg.de/event/gebet-fuer-witten/
END:VEVENT
END:VCALENDAR
